BEGIN:VCALENDAR
VERSION:2.0
PRODID:-//HIV Alliance - ECPv6.15.20//NONSGML v1.0//EN
CALSCALE:GREGORIAN
METHOD:PUBLISH
X-WR-CALNAME:HIV Alliance
X-ORIGINAL-URL:https://hivalliance.org/es
X-WR-CALDESC:Eventos para HIV Alliance
REFRESH-INTERVAL;VALUE=DURATION:PT1H
X-Robots-Tag:noindex
X-PUBLISHED-TTL:PT1H
BEGIN:VTIMEZONE
TZID:America/Los_Angeles
BEGIN:DAYLIGHT
TZOFFSETFROM:-0800
TZOFFSETTO:-0700
TZNAME:PDT
DTSTART:20230312T100000
END:DAYLIGHT
BEGIN:STANDARD
TZOFFSETFROM:-0700
TZOFFSETTO:-0800
TZNAME:PST
DTSTART:20231105T090000
END:STANDARD
BEGIN:DAYLIGHT
TZOFFSETFROM:-0800
TZOFFSETTO:-0700
TZNAME:PDT
DTSTART:20240310T100000
END:DAYLIGHT
BEGIN:STANDARD
TZOFFSETFROM:-0700
TZOFFSETTO:-0800
TZNAME:PST
DTSTART:20241103T090000
END:STANDARD
BEGIN:DAYLIGHT
TZOFFSETFROM:-0800
TZOFFSETTO:-0700
TZNAME:PDT
DTSTART:20250309T100000
END:DAYLIGHT
BEGIN:STANDARD
TZOFFSETFROM:-0700
TZOFFSETTO:-0800
TZNAME:PST
DTSTART:20251102T090000
END:STANDARD
END:VTIMEZONE
BEGIN:VEVENT
DTSTART;TZID=America/Los_Angeles:20241201T190000
DTEND;TZID=America/Los_Angeles:20241201T203000
DTSTAMP:20260419T055404
CREATED:20241113T210727Z
LAST-MODIFIED:20250211T185548Z
UID:16081-1733079600-1733085000@hivalliance.org
SUMMARY:Medford World AIDS Day Candlelight Observance
DESCRIPTION:An evening of music and remembrance\, celebrating friends we’ve lost and supporting community members living with HIV. Participants include The Peace Choir\, HIV Alliance\, OnTrack and members of the Congregation. Admission Free. Candles provided. \nFor event updates and more details visit our Facebook event page.
URL:https://hivalliance.org/es/event/medford-world-aids-day-candlelight-observance/
LOCATION:Medford Congregational United Church of Christ\, 1801 E Jackson Street\, Medford\, OR\, United States
CATEGORIES:Community,HIV+ Support
ATTACH;FMTTYPE=image/png:https://hivalliance.org/wp-content/uploads/2024/10/event-placeholder.png
END:VEVENT
END:VCALENDAR